BEGIN:VCALENDAR
VERSION:2.0
PRODID:DPCALENDAR
CALSCALE:GREGORIAN
BEGIN:VTIMEZONE
TZID:Europe/Brussels
BEGIN:STANDARD
DTSTART:20251026T010000
TZOFFSETFROM:+0200
TZOFFSETTO:+0100
TZNAME:CET
END:STANDARD
BEGIN:STANDARD
DTSTART:20261025T010000
TZOFFSETFROM:+0200
TZOFFSETTO:+0100
TZNAME:CET
END:STANDARD
BEGIN:DAYLIGHT
DTSTART:20260329T010000
TZOFFSETFROM:+0100
TZOFFSETTO:+0200
TZNAME:CEST
END:DAYLIGHT
END:VTIMEZONE
X-WR-TIMEZONE:Europe/Brussels
BEGIN:VEVENT
DTSTART;TZID=Europe/Brussels:20230908T213000
DTEND;TZID=Europe/Brussels:20230908T223000
UID:8B00E9DE-520A-4955-B2DD-20D6CD69FFFB
SUMMARY:Clubkampioenschap Reeks B - Ronde 1
CREATED:20230820T152924Z
DTSTAMP:20230820T152924Z
URL:https://www.knokkeschaak.be/index.php/activiteiten/clubkampioenschap-reeks-b-ronde-1
LAST-MODIFIED:20230820T163843Z
SEQUENCE:4159
X-ACCESS:1
X-HITS:51
X-COLOR:f21365
X-SHOW-END-TIME:0
END:VEVENT
BEGIN:VEVENT
DTSTART;TZID=Europe/Brussels:20230922T213000
DTEND;TZID=Europe/Brussels:20230922T223000
UID:83ACCF4A-F497-4802-B879-192BFB9CD9CB
SUMMARY:Clubkampioenschap Reeks B - Ronde 2
CREATED:20230820T152924Z
DTSTAMP:20230820T152924Z
URL:https://www.knokkeschaak.be/index.php/activiteiten/clubkampioenschap-reeks-b-ronde-2
LAST-MODIFIED:20230820T163906Z
SEQUENCE:4182
X-ACCESS:1
X-HITS:124
X-COLOR:f21365
X-SHOW-END-TIME:0
END:VEVENT
BEGIN:VEVENT
DTSTART;TZID=Europe/Brussels:20231006T213000
DTEND;TZID=Europe/Brussels:20231006T223000
UID:8FDF655A-8B67-462C-931F-3C67480E986A
SUMMARY:Clubkampioenschap Reeks B - Ronde 3
CREATED:20230820T152924Z
DTSTAMP:20230820T152924Z
URL:https://www.knokkeschaak.be/index.php/activiteiten/clubkampioenschap-reeks-b-ronde-3
DESCRIPTION:
X-ALT-DESC;FMTTYPE=text/html:<p><br /><br /></p>
LAST-MODIFIED:20230820T163954Z
SEQUENCE:4230
X-ACCESS:1
X-HITS:129
X-COLOR:f21365
X-SHOW-END-TIME:0
END:VEVENT
BEGIN:VEVENT
DTSTART;TZID=Europe/Brussels:20231020T213000
DTEND;TZID=Europe/Brussels:20231020T223000
UID:67E5E7FF-E58F-4325-A573-0EB95AD13037
SUMMARY:Clubkampioenschap Reeks B - Ronde 4
CREATED:20230820T152924Z
DTSTAMP:20230820T152924Z
URL:https://www.knokkeschaak.be/index.php/activiteiten/clubkampioenschap-reeks-b-ronde-4
LAST-MODIFIED:20230820T164606Z
SEQUENCE:4602
X-ACCESS:1
X-HITS:166
X-COLOR:f21365
X-SHOW-END-TIME:0
END:VEVENT
BEGIN:VEVENT
DTSTART;TZID=Europe/Brussels:20231103T203000
DTEND;TZID=Europe/Brussels:20231103T213000
UID:196C11C1-E295-4A1D-8C8D-6B24F55A6E12
SUMMARY:Clubkampioenschap Reeks B - Ronde 5
CREATED:20230820T152924Z
DTSTAMP:20230820T152924Z
URL:https://www.knokkeschaak.be/index.php/activiteiten/clubkampioenschap-reeks-b-ronde-5
LAST-MODIFIED:20230820T164612Z
SEQUENCE:4608
X-ACCESS:1
X-HITS:184
X-COLOR:f21365
X-SHOW-END-TIME:0
END:VEVENT
BEGIN:VEVENT
DTSTART;TZID=Europe/Brussels:20231117T203000
DTEND;TZID=Europe/Brussels:20231117T213000
UID:9B97F8A7-B278-4A7A-A2A8-E026C0A53A5B
SUMMARY:Clubkampioenschap Reeks B - Ronde 6
CREATED:20230820T152924Z
DTSTAMP:20230820T152924Z
URL:https://www.knokkeschaak.be/index.php/activiteiten/clubkampioenschap-reeks-b-ronde-6
LAST-MODIFIED:20230820T164619Z
SEQUENCE:4615
X-ACCESS:1
X-HITS:196
X-COLOR:f21365
X-SHOW-END-TIME:0
END:VEVENT
BEGIN:VEVENT
DTSTART;TZID=Europe/Brussels:20231201T203000
DTEND;TZID=Europe/Brussels:20231201T213000
UID:C0934621-D5F0-45BC-8BC1-59890D8A3727
SUMMARY:Clubkampioenschap Reeks B - Ronde 7
CREATED:20230820T152924Z
DTSTAMP:20230820T152924Z
URL:https://www.knokkeschaak.be/index.php/activiteiten/clubkampioenschap-reeks-b-ronde-7
LAST-MODIFIED:20230820T164626Z
SEQUENCE:4622
X-ACCESS:1
X-HITS:229
X-COLOR:f21365
X-SHOW-END-TIME:0
END:VEVENT
BEGIN:VEVENT
DTSTART;TZID=Europe/Brussels:20231215T203000
DTEND;TZID=Europe/Brussels:20231215T213000
UID:3BFE4AC3-0812-40AC-A80E-5CF31AAAF807
SUMMARY:Clubkampioenschap Reeks B - Ronde 8
CREATED:20230820T152924Z
DTSTAMP:20230820T152924Z
URL:https://www.knokkeschaak.be/index.php/activiteiten/clubkampioenschap-reeks-b-ronde-8
LAST-MODIFIED:20230820T164632Z
SEQUENCE:4628
X-ACCESS:1
X-HITS:118
X-COLOR:f21365
X-SHOW-END-TIME:0
END:VEVENT
BEGIN:VEVENT
DTSTART;TZID=Europe/Brussels:20231229T203000
DTEND;TZID=Europe/Brussels:20231229T213000
UID:36C8D495-1361-4B91-B096-64BB669B3461
SUMMARY:Clubkampioenschap Reeks B - Ronde 9
CREATED:20230820T152924Z
DTSTAMP:20230820T152924Z
URL:https://www.knokkeschaak.be/index.php/activiteiten/clubkampioenschap-reeks-b-ronde-9
LAST-MODIFIED:20230820T164639Z
SEQUENCE:4635
X-ACCESS:1
X-HITS:110
X-COLOR:f21365
X-SHOW-END-TIME:0
END:VEVENT
BEGIN:VEVENT
DTSTART;TZID=Europe/Brussels:20240126T193000
DTEND;TZID=Europe/Brussels:20240126T233000
UID:0DA4B10F-3847-4135-8D12-38D89CB3884E
SUMMARY:Clubkampioenschap Reeks B - Ronde 10
CREATED:20230820T152924Z
DTSTAMP:20230820T152924Z
URL:https://www.knokkeschaak.be/index.php/activiteiten/clubkampioenschap-reeks-b-ronde-10
LAST-MODIFIED:20240114T183112Z
SEQUENCE:12711708
X-ACCESS:1
X-HITS:234
X-COLOR:f21365
X-SHOW-END-TIME:0
END:VEVENT
BEGIN:VEVENT
DTSTART;TZID=Europe/Brussels:20240216T193000
DTEND;TZID=Europe/Brussels:20240216T203000
UID:8EF86899-8219-4DAC-A1B4-B272D44F0489
SUMMARY:Clubkampioenschap Reeks B - Ronde 11
CREATED:20230820T152924Z
DTSTAMP:20230820T152924Z
URL:https://www.knokkeschaak.be/index.php/activiteiten/clubkampioenschap-reeks-b-ronde-11
LAST-MODIFIED:20240114T183255Z
SEQUENCE:12711811
X-ACCESS:1
X-HITS:234
X-COLOR:f21365
X-SHOW-END-TIME:0
END:VEVENT
BEGIN:VEVENT
DTSTART;TZID=Europe/Brussels:20240301T193000
DTEND;TZID=Europe/Brussels:20240301T203000
UID:E127A302-C0A4-4B1E-9298-897F9E126D90
SUMMARY:Clubkampioenschap Reeks B - Ronde 12
CREATED:20230820T152924Z
DTSTAMP:20230820T152924Z
URL:https://www.knokkeschaak.be/index.php/activiteiten/clubkampioenschap-reeks-b-ronde-12
LAST-MODIFIED:20240114T183347Z
SEQUENCE:12711863
X-ACCESS:1
X-HITS:221
X-COLOR:f21365
X-SHOW-END-TIME:0
END:VEVENT
BEGIN:VEVENT
DTSTART;TZID=Europe/Brussels:20240405T190000
DTEND;TZID=Europe/Brussels:20240405T200000
UID:E2088817-97A2-48F1-B3BC-A0749BFBD8EB
SUMMARY:Clubkampioenschap Reeks B - Ronde 13
CREATED:20230820T152924Z
DTSTAMP:20230820T152924Z
URL:https://www.knokkeschaak.be/index.php/activiteiten/clubkampioenschap-reeks-b-ronde-13
LAST-MODIFIED:20240114T183619Z
SEQUENCE:12712015
X-ACCESS:1
X-HITS:235
X-COLOR:f21365
X-SHOW-END-TIME:0
END:VEVENT
BEGIN:VEVENT
DTSTART;TZID=Europe/Brussels:20240906T193000
DTEND;TZID=Europe/Brussels:20240906T233000
UID:63E4F2E5-2F89-41D7-BEF7-3FF3173BBDE2
SUMMARY:Clubkampioenschap Reeks B
CREATED:20240717T200448Z
DTSTAMP:20240717T200448Z
URL:https://www.knokkeschaak.be/index.php/activiteiten/clubkampioenschap-reeks-a-3
DESCRIPTION:Ronde 1
X-ALT-DESC;FMTTYPE=text/html:<p>Ronde 1</p>
LAST-MODIFIED:20240818T202937Z
SEQUENCE:2766289
LOCATION:1 Maxim Willemspad\, Knokke-Heist\, West-Vlaanderen 8300\, België
GEO:51.34364660;3.28006777
X-LOCATION-DISPLAYNAME:C.C. Scharpoord
X-ACCESS:1
X-HITS:536
X-COLOR:f21365
X-SHOW-END-TIME:0
END:VEVENT
BEGIN:VEVENT
DTSTART;TZID=Europe/Brussels:20241004T193000
DTEND;TZID=Europe/Brussels:20241004T233000
UID:A96DEB29-3125-4A80-842F-B8E6FD53504A
SUMMARY:Clubkampioenschap Reeks B
CREATED:20240717T200448Z
DTSTAMP:20240717T200448Z
URL:https://www.knokkeschaak.be/index.php/activiteiten/clubkampioenschap-reeks-a-5
DESCRIPTION:Ronde 2
X-ALT-DESC;FMTTYPE=text/html:<p>Ronde 2</p>
LAST-MODIFIED:20240818T202945Z
SEQUENCE:2766297
LOCATION:1 Maxim Willemspad\, Knokke-Heist\, West-Vlaanderen 8300\, België
GEO:51.34364660;3.28006777
X-LOCATION-DISPLAYNAME:C.C. Scharpoord
X-ACCESS:1
X-HITS:501
X-COLOR:f21365
X-SHOW-END-TIME:0
END:VEVENT
BEGIN:VEVENT
DTSTART;TZID=Europe/Brussels:20241025T193000
DTEND;TZID=Europe/Brussels:20241025T233000
UID:C0172EA4-8D03-408A-9E7C-FC418F8A782B
SUMMARY:Clubkampioenschap Reeks B
CREATED:20240717T200448Z
DTSTAMP:20240717T200448Z
URL:https://www.knokkeschaak.be/index.php/activiteiten/clubkampioenschap-reeks-a-4
DESCRIPTION:Ronde 3
X-ALT-DESC;FMTTYPE=text/html:<p>Ronde 3</p>
LAST-MODIFIED:20240818T203000Z
SEQUENCE:2766312
LOCATION:1 Maxim Willemspad\, Knokke-Heist\, West-Vlaanderen 8300\, België
GEO:51.34364660;3.28006777
X-LOCATION-DISPLAYNAME:C.C. Scharpoord
X-ACCESS:1
X-HITS:450
X-COLOR:f21365
X-SHOW-END-TIME:0
END:VEVENT
BEGIN:VEVENT
DTSTART;TZID=Europe/Brussels:20241129T193000
DTEND;TZID=Europe/Brussels:20241129T233000
UID:E36200B5-71DD-4D94-B2E5-288DFCB4A121
SUMMARY:Clubkampioenschap Reeks B
CREATED:20240717T200448Z
DTSTAMP:20240717T200448Z
URL:https://www.knokkeschaak.be/index.php/activiteiten/clubkampioenschap-reeks-a-11
DESCRIPTION:Ronde 4
X-ALT-DESC;FMTTYPE=text/html:<p>Ronde 4</p>
LAST-MODIFIED:20240818T203011Z
SEQUENCE:2766323
LOCATION:1 Maxim Willemspad\, Knokke-Heist\, West-Vlaanderen 8300\, België
GEO:51.34364660;3.28006777
X-LOCATION-DISPLAYNAME:C.C. Scharpoord
X-ACCESS:1
X-HITS:491
X-COLOR:f21365
X-SHOW-END-TIME:0
END:VEVENT
BEGIN:VEVENT
DTSTART;TZID=Europe/Brussels:20241227T193000
DTEND;TZID=Europe/Brussels:20241227T233000
UID:AB4FC89C-3CED-4C10-8239-6156FC3C0D28
SUMMARY:Clubkampioenschap Reeks B
CREATED:20240717T200448Z
DTSTAMP:20240717T200448Z
URL:https://www.knokkeschaak.be/index.php/activiteiten/clubkampioenschap-reeks-a-8
DESCRIPTION:Ronde 5
X-ALT-DESC;FMTTYPE=text/html:<p>Ronde 5</p>
LAST-MODIFIED:20240818T203039Z
SEQUENCE:2766351
LOCATION:1 Maxim Willemspad\, Knokke-Heist\, West-Vlaanderen 8300\, België
GEO:51.34364660;3.28006777
X-LOCATION-DISPLAYNAME:C.C. Scharpoord
X-ACCESS:1
X-HITS:529
X-COLOR:f21365
X-SHOW-END-TIME:0
END:VEVENT
BEGIN:VEVENT
DTSTART;TZID=Europe/Brussels:20250117T193000
DTEND;TZID=Europe/Brussels:20250117T233000
UID:19FF4095-E216-472F-9C2D-84841AC2A3E0
SUMMARY:Clubkampioenschap Reeks B
CREATED:20240717T200448Z
DTSTAMP:20240717T200448Z
URL:https://www.knokkeschaak.be/index.php/activiteiten/clubkampioenschap-reeks-a-12
DESCRIPTION:Ronde 6
X-ALT-DESC;FMTTYPE=text/html:<p>Ronde 6</p>
LAST-MODIFIED:20240818T203059Z
SEQUENCE:2766371
LOCATION:1 Maxim Willemspad\, Knokke-Heist\, West-Vlaanderen 8300\, België
GEO:51.34364660;3.28006777
X-LOCATION-DISPLAYNAME:C.C. Scharpoord
X-ACCESS:1
X-HITS:529
X-COLOR:f21365
X-SHOW-END-TIME:0
END:VEVENT
BEGIN:VEVENT
DTSTART;TZID=Europe/Brussels:20250207T193000
DTEND;TZID=Europe/Brussels:20250207T233000
UID:5611E897-14B3-4EFF-8866-EC9079F014B7
SUMMARY:Clubkampioenschap Reeks B
CREATED:20240717T200448Z
DTSTAMP:20240717T200448Z
URL:https://www.knokkeschaak.be/index.php/activiteiten/clubkampioenschap-reeks-a-18
DESCRIPTION:Ronde 7
X-ALT-DESC;FMTTYPE=text/html:<p>Ronde 7</p>
LAST-MODIFIED:20240818T203112Z
SEQUENCE:2766384
LOCATION:1 Maxim Willemspad\, Knokke-Heist\, West-Vlaanderen 8300\, België
GEO:51.34364660;3.28006777
X-LOCATION-DISPLAYNAME:C.C. Scharpoord
X-ACCESS:1
X-HITS:516
X-COLOR:f21365
X-SHOW-END-TIME:0
END:VEVENT
BEGIN:VEVENT
DTSTART;TZID=Europe/Brussels:20250221T193000
DTEND;TZID=Europe/Brussels:20250221T233000
UID:84E7DDB0-3AF6-4B71-BF90-97A3BC8DD279
SUMMARY:Clubkampioenschap Reeks B
CREATED:20240717T200448Z
DTSTAMP:20240717T200448Z
URL:https://www.knokkeschaak.be/index.php/activiteiten/clubkampioenschap-reeks-a-19
DESCRIPTION:Ronde 8
X-ALT-DESC;FMTTYPE=text/html:<p>Ronde 8</p>
LAST-MODIFIED:20240818T203149Z
SEQUENCE:2766421
LOCATION:1 Maxim Willemspad\, Knokke-Heist\, West-Vlaanderen 8300\, België
GEO:51.34364660;3.28006777
X-LOCATION-DISPLAYNAME:C.C. Scharpoord
X-ACCESS:1
X-HITS:498
X-COLOR:f21365
X-SHOW-END-TIME:0
END:VEVENT
BEGIN:VEVENT
DTSTART;TZID=Europe/Brussels:20250307T193000
DTEND;TZID=Europe/Brussels:20250307T233000
UID:CBB1E72A-DDA8-4C4C-822F-0B383AE11518
SUMMARY:Clubkampioenschap Reeks B
CREATED:20240717T200448Z
DTSTAMP:20240717T200448Z
URL:https://www.knokkeschaak.be/index.php/activiteiten/clubkampioenschap-reeks-a-20
DESCRIPTION:Ronde 9
X-ALT-DESC;FMTTYPE=text/html:<p>Ronde 9</p>
LAST-MODIFIED:20240818T203239Z
SEQUENCE:2766471
LOCATION:1 Maxim Willemspad\, Knokke-Heist\, West-Vlaanderen 8300\, België
GEO:51.34364660;3.28006777
X-LOCATION-DISPLAYNAME:C.C. Scharpoord
X-ACCESS:1
X-HITS:604
X-COLOR:f21365
X-SHOW-END-TIME:0
END:VEVENT
BEGIN:VEVENT
DTSTART;TZID=Europe/Brussels:20250328T193000
DTEND;TZID=Europe/Brussels:20250328T233000
UID:15EFDCAA-1B3C-4862-BF93-16B1A2A2522D
SUMMARY:Clubkampioenschap Reeks B
CREATED:20240717T200448Z
DTSTAMP:20240717T200448Z
URL:https://www.knokkeschaak.be/index.php/activiteiten/clubkampioenschap-reeks-a-21
DESCRIPTION:Ronde 10
X-ALT-DESC;FMTTYPE=text/html:<p>Ronde 10</p>
LAST-MODIFIED:20240818T203316Z
SEQUENCE:2766508
LOCATION:1 Maxim Willemspad\, Knokke-Heist\, West-Vlaanderen 8300\, België
GEO:51.34364660;3.28006777
X-LOCATION-DISPLAYNAME:C.C. Scharpoord
X-ACCESS:1
X-HITS:580
X-COLOR:f21365
X-SHOW-END-TIME:0
END:VEVENT
BEGIN:VEVENT
DTSTART;TZID=Europe/Brussels:20250418T193000
DTEND;TZID=Europe/Brussels:20250418T233000
UID:8D3B0316-69C6-411F-8AFD-82297CCCFE5F
SUMMARY:Clubkampioenschap Reeks B
CREATED:20240717T200448Z
DTSTAMP:20240717T200448Z
URL:https://www.knokkeschaak.be/index.php/activiteiten/clubkampioenschap-reeks-a-25
DESCRIPTION:Ronde 11
X-ALT-DESC;FMTTYPE=text/html:<p>Ronde 11</p>
LAST-MODIFIED:20240818T203415Z
SEQUENCE:2766567
LOCATION:1 Maxim Willemspad\, Knokke-Heist\, West-Vlaanderen 8300\, België
GEO:51.34364660;3.28006777
X-LOCATION-DISPLAYNAME:C.C. Scharpoord
X-ACCESS:1
X-HITS:636
X-COLOR:f21365
X-SHOW-END-TIME:0
END:VEVENT
BEGIN:VEVENT
DTSTART;TZID=Europe/Brussels:20250516T193000
DTEND;TZID=Europe/Brussels:20250516T233000
UID:6179BDF6-A751-4FA8-9EF5-9E8A446A118C
SUMMARY:Clubkampioenschap Reeks B
CREATED:20240717T200448Z
DTSTAMP:20240717T200448Z
URL:https://www.knokkeschaak.be/index.php/activiteiten/clubkampioenschap-reeks-a-26
DESCRIPTION:Ronde 12
X-ALT-DESC;FMTTYPE=text/html:<p>Ronde 12</p>
LAST-MODIFIED:20240818T203459Z
SEQUENCE:2766611
LOCATION:1 Maxim Willemspad\, Knokke-Heist\, West-Vlaanderen 8300\, België
GEO:51.34364660;3.28006777
X-LOCATION-DISPLAYNAME:C.C. Scharpoord
X-ACCESS:1
X-HITS:785
X-COLOR:f21365
X-SHOW-END-TIME:0
END:VEVENT
BEGIN:VEVENT
DTSTART;TZID=Europe/Brussels:20250620T193000
DTEND;TZID=Europe/Brussels:20250620T233000
UID:32AFF13E-DA21-4BC3-B90D-1ACE91B850AF
SUMMARY:Clubkampioenschap Reeks B
CREATED:20240717T200448Z
DTSTAMP:20240717T200448Z
URL:https://www.knokkeschaak.be/index.php/activiteiten/clubkampioenschap-reeks-a-22
DESCRIPTION:Ronde 13
X-ALT-DESC;FMTTYPE=text/html:<p>Ronde 13</p>
LAST-MODIFIED:20240818T203517Z
SEQUENCE:2766629
LOCATION:1 Maxim Willemspad\, Knokke-Heist\, West-Vlaanderen 8300\, België
GEO:51.34364660;3.28006777
X-LOCATION-DISPLAYNAME:C.C. Scharpoord
X-ACCESS:1
X-HITS:693
X-COLOR:f21365
X-SHOW-END-TIME:0
END:VEVENT
BEGIN:VEVENT
DTSTART;TZID=Europe/Brussels:20250711T193000
DTEND;TZID=Europe/Brussels:20250711T233000
UID:F7CAFF91-C9A3-4A64-9847-B8157C6FBED6
SUMMARY:Clubkampioenschap Reeks B
CREATED:20240717T200448Z
DTSTAMP:20240717T200448Z
URL:https://www.knokkeschaak.be/index.php/activiteiten/clubkampioenschap-reeks-a-23
DESCRIPTION:Ronde 14
X-ALT-DESC;FMTTYPE=text/html:<p>Ronde 14</p>
LAST-MODIFIED:20240818T203529Z
SEQUENCE:2766641
LOCATION:1 Maxim Willemspad\, Knokke-Heist\, West-Vlaanderen 8300\, België
GEO:51.34364660;3.28006777
X-LOCATION-DISPLAYNAME:C.C. Scharpoord
X-ACCESS:1
X-HITS:626
X-COLOR:f21365
X-SHOW-END-TIME:0
END:VEVENT
BEGIN:VEVENT
DTSTART;TZID=Europe/Brussels:20250801T193000
DTEND;TZID=Europe/Brussels:20250801T233000
UID:9C23D2D4-F4A3-403A-9ACB-1FD3690FAE08
SUMMARY:Clubkampioenschap Reeks B
CREATED:20240717T200448Z
DTSTAMP:20240717T200448Z
URL:https://www.knokkeschaak.be/index.php/activiteiten/clubkampioenschap-reeks-a-24
DESCRIPTION:Ronde 15
X-ALT-DESC;FMTTYPE=text/html:<p>Ronde 15</p>
LAST-MODIFIED:20240818T203540Z
SEQUENCE:2766652
LOCATION:1 Maxim Willemspad\, Knokke-Heist\, West-Vlaanderen 8300\, België
GEO:51.34364660;3.28006777
X-LOCATION-DISPLAYNAME:C.C. Scharpoord
X-ACCESS:1
X-HITS:624
X-COLOR:f21365
X-SHOW-END-TIME:0
END:VEVENT
BEGIN:VEVENT
DTSTART;TZID=Europe/Brussels:20250905T193000
DTEND;TZID=Europe/Brussels:20250905T233000
UID:608CBF3C-64F6-4DBA-AA53-FDE70C84C857
SUMMARY:Clubkampioenschap Reeks B
CREATED:20240717T200448Z
DTSTAMP:20240717T200448Z
URL:https://www.knokkeschaak.be/index.php/activiteiten/clubkampioenschap-reeks-b
DESCRIPTION:Ronde 1
X-ALT-DESC;FMTTYPE=text/html:<p>Ronde 1</p>
LAST-MODIFIED:20250708T172709Z
SEQUENCE:30748941
LOCATION:1 Maxim Willemspad\, Knokke-Heist\, West-Vlaanderen 8300\, België
GEO:51.34364660;3.28006777
X-LOCATION-DISPLAYNAME:C.C. Scharpoord
X-ACCESS:1
X-HITS:403
X-COLOR:f21365
X-SHOW-END-TIME:0
END:VEVENT
BEGIN:VEVENT
DTSTART;TZID=Europe/Brussels:20251003T193000
DTEND;TZID=Europe/Brussels:20251003T233000
UID:274D8A74-F499-4504-B516-9E9C46554D49
SUMMARY:Clubkampioenschap Reeks B
CREATED:20240717T200448Z
DTSTAMP:20240717T200448Z
URL:https://www.knokkeschaak.be/index.php/activiteiten/clubkampioenschap-reeks-b-2
DESCRIPTION:Ronde 2
X-ALT-DESC;FMTTYPE=text/html:<p>Ronde 2</p>
LAST-MODIFIED:20250708T172801Z
SEQUENCE:30748993
LOCATION:1 Maxim Willemspad\, Knokke-Heist\, West-Vlaanderen 8300\, België
GEO:51.34364660;3.28006777
X-LOCATION-DISPLAYNAME:C.C. Scharpoord
X-ACCESS:1
X-HITS:559
X-COLOR:f21365
X-SHOW-END-TIME:0
END:VEVENT
BEGIN:VEVENT
DTSTART;TZID=Europe/Brussels:20251017T193000
DTEND;TZID=Europe/Brussels:20251017T233000
UID:F7878B67-68F3-4348-B1DE-6F211A477DBE
SUMMARY:Clubkampioenschap Reeks B
CREATED:20240717T200448Z
DTSTAMP:20240717T200448Z
URL:https://www.knokkeschaak.be/index.php/activiteiten/clubkampioenschap-reeks-b-3
DESCRIPTION:Ronde 3
X-ALT-DESC;FMTTYPE=text/html:<p>Ronde 3</p>
LAST-MODIFIED:20250821T122738Z
SEQUENCE:34532570
LOCATION:1 Maxim Willemspad\, Knokke-Heist\, West-Vlaanderen 8300\, België
GEO:51.34364660;3.28006777
X-LOCATION-DISPLAYNAME:C.C. Scharpoord
X-ACCESS:1
X-HITS:458
X-COLOR:f21365
X-SHOW-END-TIME:0
END:VEVENT
BEGIN:VEVENT
DTSTART;TZID=Europe/Brussels:20251114T193000
DTEND;TZID=Europe/Brussels:20251114T233000
UID:A629F749-CD5C-44F5-B573-1C1C9709C4A6
SUMMARY:Clubkampioenschap Reeks B
CREATED:20240717T200448Z
DTSTAMP:20240717T200448Z
URL:https://www.knokkeschaak.be/index.php/activiteiten/clubkampioenschap-reeks-b-4
DESCRIPTION:Ronde 4
X-ALT-DESC;FMTTYPE=text/html:<p>Ronde 4</p>
LAST-MODIFIED:20250821T122844Z
SEQUENCE:34532636
LOCATION:1 Maxim Willemspad\, Knokke-Heist\, West-Vlaanderen 8300\, België
GEO:51.34364660;3.28006777
X-LOCATION-DISPLAYNAME:C.C. Scharpoord
X-ACCESS:1
X-HITS:481
X-COLOR:f21365
X-SHOW-END-TIME:0
END:VEVENT
BEGIN:VEVENT
DTSTART;TZID=Europe/Brussels:20251205T193000
DTEND;TZID=Europe/Brussels:20251205T233000
UID:2504DED9-8150-4F70-A475-20F60FB61801
SUMMARY:Clubkampioenschap Reeks B
CREATED:20240717T200448Z
DTSTAMP:20240717T200448Z
URL:https://www.knokkeschaak.be/index.php/activiteiten/clubkampioenschap-reeks-b-5
DESCRIPTION:Ronde 5
X-ALT-DESC;FMTTYPE=text/html:<p>Ronde 5</p>
LAST-MODIFIED:20250821T122909Z
SEQUENCE:34532661
LOCATION:1 Maxim Willemspad\, Knokke-Heist\, West-Vlaanderen 8300\, België
GEO:51.34364660;3.28006777
X-LOCATION-DISPLAYNAME:C.C. Scharpoord
X-ACCESS:1
X-HITS:489
X-COLOR:f21365
X-SHOW-END-TIME:0
END:VEVENT
BEGIN:VEVENT
DTSTART;TZID=Europe/Brussels:20251219T193000
DTEND;TZID=Europe/Brussels:20251219T233000
UID:0C779FAE-67AD-41C5-90F0-6ABFF9703BED
SUMMARY:Clubkampioenschap Reeks B
CREATED:20240717T200448Z
DTSTAMP:20240717T200448Z
URL:https://www.knokkeschaak.be/index.php/activiteiten/clubkampioenschap-reeks-b-6
DESCRIPTION:Ronde 6
X-ALT-DESC;FMTTYPE=text/html:<p>Ronde 6</p>
LAST-MODIFIED:20250929T125927Z
SEQUENCE:37904079
LOCATION:1 Maxim Willemspad\, Knokke-Heist\, West-Vlaanderen 8300\, België
GEO:51.34364660;3.28006777
X-LOCATION-DISPLAYNAME:C.C. Scharpoord
X-ACCESS:1
X-HITS:442
X-COLOR:f21365
X-SHOW-END-TIME:0
END:VEVENT
BEGIN:VEVENT
DTSTART;TZID=Europe/Brussels:20260109T193000
DTEND;TZID=Europe/Brussels:20260109T233000
UID:90D876AE-436B-4BD5-9453-07126982E20C
SUMMARY:Clubkampioenschap Reeks B
CREATED:20240717T200448Z
DTSTAMP:20240717T200448Z
URL:https://www.knokkeschaak.be/index.php/activiteiten/clubkampioenschap-reeks-b-7
DESCRIPTION:Ronde 7
X-ALT-DESC;FMTTYPE=text/html:<p>Ronde 7</p>
LAST-MODIFIED:20250821T123016Z
SEQUENCE:34532728
LOCATION:1 Maxim Willemspad\, Knokke-Heist\, West-Vlaanderen 8300\, België
GEO:51.34364660;3.28006777
X-LOCATION-DISPLAYNAME:C.C. Scharpoord
X-ACCESS:1
X-HITS:438
X-COLOR:f21365
X-SHOW-END-TIME:0
END:VEVENT
BEGIN:VEVENT
DTSTART;TZID=Europe/Brussels:20260130T193000
DTEND;TZID=Europe/Brussels:20260130T233000
UID:FDF665C9-BF17-404D-9E16-5592BA8EFBB5
SUMMARY:Clubkampioenschap Reeks B
CREATED:20240717T200448Z
DTSTAMP:20240717T200448Z
URL:https://www.knokkeschaak.be/index.php/activiteiten/clubkampioenschap-reeks-b-8
DESCRIPTION:Ronde 8
X-ALT-DESC;FMTTYPE=text/html:<p>Ronde 8</p>
LAST-MODIFIED:20250821T123100Z
SEQUENCE:34532772
LOCATION:1 Maxim Willemspad\, Knokke-Heist\, West-Vlaanderen 8300\, België
GEO:51.34364660;3.28006777
X-LOCATION-DISPLAYNAME:C.C. Scharpoord
X-ACCESS:1
X-HITS:429
X-COLOR:f21365
X-SHOW-END-TIME:0
END:VEVENT
BEGIN:VEVENT
DTSTART;TZID=Europe/Brussels:20260213T193000
DTEND;TZID=Europe/Brussels:20260213T233000
UID:C7511DE4-8E0C-4950-AFA3-E1346D1CF41A
SUMMARY:Clubkampioenschap Reeks B
CREATED:20240717T200448Z
DTSTAMP:20240717T200448Z
URL:https://www.knokkeschaak.be/index.php/activiteiten/clubkampioenschap-reeks-b-9
DESCRIPTION:Ronde 9
X-ALT-DESC;FMTTYPE=text/html:<p>Ronde 9</p>
LAST-MODIFIED:20250821T123137Z
SEQUENCE:34532809
LOCATION:1 Maxim Willemspad\, Knokke-Heist\, West-Vlaanderen 8300\, België
GEO:51.34364660;3.28006777
X-LOCATION-DISPLAYNAME:C.C. Scharpoord
X-ACCESS:1
X-HITS:459
X-COLOR:f21365
X-SHOW-END-TIME:0
END:VEVENT
BEGIN:VEVENT
DTSTART;TZID=Europe/Brussels:20260227T193000
DTEND;TZID=Europe/Brussels:20260227T233000
UID:18C99F06-4AD9-4457-9DDB-507348E77209
SUMMARY:Clubkampioenschap Reeks B
CREATED:20240717T200448Z
DTSTAMP:20240717T200448Z
URL:https://www.knokkeschaak.be/index.php/activiteiten/clubkampioenschap-reeks-b-10
DESCRIPTION:Ronde 10
X-ALT-DESC;FMTTYPE=text/html:<p>Ronde 10</p>
LAST-MODIFIED:20250821T123206Z
SEQUENCE:34532838
LOCATION:1 Maxim Willemspad\, Knokke-Heist\, West-Vlaanderen 8300\, België
GEO:51.34364660;3.28006777
X-LOCATION-DISPLAYNAME:C.C. Scharpoord
X-ACCESS:1
X-HITS:433
X-COLOR:f21365
X-SHOW-END-TIME:0
END:VEVENT
BEGIN:VEVENT
DTSTART;TZID=Europe/Brussels:20260327T193000
DTEND;TZID=Europe/Brussels:20260327T233000
UID:6B50A4B1-AFA6-439C-BE5F-2F8B11EBFF93
SUMMARY:Clubkampioenschap Reeks B
CREATED:20240717T200448Z
DTSTAMP:20240717T200448Z
URL:https://www.knokkeschaak.be/index.php/activiteiten/clubkampioenschap-reeks-b-11
DESCRIPTION:Ronde 11
X-ALT-DESC;FMTTYPE=text/html:<p>Ronde 11</p>
LAST-MODIFIED:20250821T123248Z
SEQUENCE:34532880
LOCATION:1 Maxim Willemspad\, Knokke-Heist\, West-Vlaanderen 8300\, België
GEO:51.34364660;3.28006777
X-LOCATION-DISPLAYNAME:C.C. Scharpoord
X-ACCESS:1
X-HITS:444
X-COLOR:f21365
X-SHOW-END-TIME:0
END:VEVENT
BEGIN:VEVENT
DTSTART;TZID=Europe/Brussels:20260417T193000
DTEND;TZID=Europe/Brussels:20260417T233000
UID:A0B62168-3C59-40A9-B9DB-D851C36913DD
SUMMARY:Clubkampioenschap Reeks B
CREATED:20240717T200448Z
DTSTAMP:20240717T200448Z
URL:https://www.knokkeschaak.be/index.php/activiteiten/clubkampioenschap-reeks-b-12
DESCRIPTION:Ronde 12
X-ALT-DESC;FMTTYPE=text/html:<p>Ronde 12</p>
LAST-MODIFIED:20250821T123315Z
SEQUENCE:34532907
LOCATION:1 Maxim Willemspad\, Knokke-Heist\, West-Vlaanderen 8300\, België
GEO:51.34364660;3.28006777
X-LOCATION-DISPLAYNAME:C.C. Scharpoord
X-ACCESS:1
X-HITS:429
X-COLOR:f21365
X-SHOW-END-TIME:0
END:VEVENT
BEGIN:VEVENT
DTSTART;TZID=Europe/Brussels:20260515T193000
DTEND;TZID=Europe/Brussels:20260515T233000
UID:36772A04-A4AB-4F89-A8D6-D2BDE9DC2E29
SUMMARY:Clubkampioenschap Reeks B
CREATED:20240717T200448Z
DTSTAMP:20240717T200448Z
URL:https://www.knokkeschaak.be/index.php/activiteiten/clubkampioenschap-reeks-b-13
DESCRIPTION:Ronde 13
X-ALT-DESC;FMTTYPE=text/html:<p>Ronde 13</p>
LAST-MODIFIED:20250821T123344Z
SEQUENCE:34532936
LOCATION:1 Maxim Willemspad\, Knokke-Heist\, West-Vlaanderen 8300\, België
GEO:51.34364660;3.28006777
X-LOCATION-DISPLAYNAME:C.C. Scharpoord
X-ACCESS:1
X-HITS:395
X-COLOR:f21365
X-SHOW-END-TIME:0
END:VEVENT
BEGIN:VEVENT
DTSTART;TZID=Europe/Brussels:20260529T193000
DTEND;TZID=Europe/Brussels:20260529T233000
UID:D62BAA03-AC8F-41BC-9061-CB74A88C6484
SUMMARY:Clubkampioenschap Reeks B
CREATED:20240717T200448Z
DTSTAMP:20240717T200448Z
URL:https://www.knokkeschaak.be/index.php/activiteiten/clubkampioenschap-reeks-b-14
DESCRIPTION:Ronde 14
X-ALT-DESC;FMTTYPE=text/html:<p>Ronde 14</p>
LAST-MODIFIED:20250821T123429Z
SEQUENCE:34532981
LOCATION:1 Maxim Willemspad\, Knokke-Heist\, West-Vlaanderen 8300\, België
GEO:51.34364660;3.28006777
X-LOCATION-DISPLAYNAME:C.C. Scharpoord
X-ACCESS:1
X-HITS:348
X-COLOR:f21365
X-SHOW-END-TIME:0
END:VEVENT
BEGIN:VEVENT
DTSTART;TZID=Europe/Brussels:20260619T193000
DTEND;TZID=Europe/Brussels:20260619T233000
UID:DBD4F486-C7C2-4D9B-B531-6B0B9FC8182E
SUMMARY:Clubkampioenschap Reeks B
CREATED:20240717T200448Z
DTSTAMP:20240717T200448Z
URL:https://www.knokkeschaak.be/index.php/activiteiten/clubkampioenschap-reeks-b-15
DESCRIPTION:Ronde 15
X-ALT-DESC;FMTTYPE=text/html:<p>Ronde 15</p>
LAST-MODIFIED:20250821T123454Z
SEQUENCE:34533006
LOCATION:1 Maxim Willemspad\, Knokke-Heist\, West-Vlaanderen 8300\, België
GEO:51.34364660;3.28006777
X-LOCATION-DISPLAYNAME:C.C. Scharpoord
X-ACCESS:1
X-HITS:277
X-COLOR:f21365
X-SHOW-END-TIME:0
END:VEVENT
BEGIN:VEVENT
DTSTART;TZID=Europe/Brussels:20260703T193000
DTEND;TZID=Europe/Brussels:20260703T233000
UID:44216302-56F3-4A43-9210-A1789C187AD5
SUMMARY:Clubkampioenschap Reeks B
CREATED:20240717T200448Z
DTSTAMP:20240717T200448Z
URL:https://www.knokkeschaak.be/index.php/activiteiten/clubkampioenschap-reeks-b-16
DESCRIPTION:Ronde 16
X-ALT-DESC;FMTTYPE=text/html:<p>Ronde 16</p>
LAST-MODIFIED:20250821T123611Z
SEQUENCE:34533083
LOCATION:1 Maxim Willemspad\, Knokke-Heist\, West-Vlaanderen 8300\, België
GEO:51.34364660;3.28006777
X-LOCATION-DISPLAYNAME:C.C. Scharpoord
X-ACCESS:1
X-HITS:220
X-COLOR:f21365
X-SHOW-END-TIME:0
END:VEVENT
BEGIN:VEVENT
DTSTART;TZID=Europe/Brussels:20260717T193000
DTEND;TZID=Europe/Brussels:20260717T233000
UID:9083251C-F84A-4C96-BBF2-98ECF698B9F3
SUMMARY:Clubkampioenschap Reeks B
CREATED:20240717T200448Z
DTSTAMP:20240717T200448Z
URL:https://www.knokkeschaak.be/index.php/activiteiten/clubkampioenschap-reeks-b-17
DESCRIPTION:Ronde 17
X-ALT-DESC;FMTTYPE=text/html:<p>Ronde 17</p>
LAST-MODIFIED:20250821T123644Z
SEQUENCE:34533116
LOCATION:1 Maxim Willemspad\, Knokke-Heist\, West-Vlaanderen 8300\, België
GEO:51.34364660;3.28006777
X-LOCATION-DISPLAYNAME:C.C. Scharpoord
X-ACCESS:1
X-HITS:189
X-COLOR:f21365
X-SHOW-END-TIME:0
END:VEVENT
BEGIN:VEVENT
DTSTART;TZID=Europe/Brussels:20260731T193000
DTEND;TZID=Europe/Brussels:20260731T233000
UID:0E95AD3B-6B01-4563-9CB7-F288A6F2598E
SUMMARY:Clubkampioenschap Reeks B
CREATED:20240717T200448Z
DTSTAMP:20240717T200448Z
URL:https://www.knokkeschaak.be/index.php/activiteiten/clubkampioenschap-reeks-b-18
DESCRIPTION:Ronde 18
X-ALT-DESC;FMTTYPE=text/html:<p>Ronde 18</p>
LAST-MODIFIED:20250821T123724Z
SEQUENCE:34533156
LOCATION:1 Maxim Willemspad\, Knokke-Heist\, West-Vlaanderen 8300\, België
GEO:51.34364660;3.28006777
X-LOCATION-DISPLAYNAME:C.C. Scharpoord
X-ACCESS:1
X-HITS:160
X-COLOR:f21365
X-SHOW-END-TIME:0
END:VEVENT
BEGIN:VEVENT
DTSTART;TZID=Europe/Brussels:20260814T193000
DTEND;TZID=Europe/Brussels:20260814T233000
UID:FDD9A8BE-EDE6-4870-8A0D-4E879AA3AF0B
SUMMARY:Clubkampioenschap Reeks B
CREATED:20240717T200448Z
DTSTAMP:20240717T200448Z
URL:https://www.knokkeschaak.be/index.php/activiteiten/clubkampioenschap-reeks-b-19
DESCRIPTION:Ronde 19
X-ALT-DESC;FMTTYPE=text/html:<p>Ronde 19</p>
LAST-MODIFIED:20250821T123758Z
SEQUENCE:34533190
LOCATION:1 Maxim Willemspad\, Knokke-Heist\, West-Vlaanderen 8300\, België
GEO:51.34364660;3.28006777
X-LOCATION-DISPLAYNAME:C.C. Scharpoord
X-ACCESS:1
X-HITS:115
X-COLOR:f21365
X-SHOW-END-TIME:0
END:VEVENT
END:VCALENDAR