BEGIN:VCALENDAR
VERSION:2.0
PRODID:DPCALENDAR
CALSCALE:GREGORIAN
BEGIN:VTIMEZONE
TZID:Europe/Brussels
BEGIN:STANDARD
DTSTART:20251026T010000
TZOFFSETFROM:+0200
TZOFFSETTO:+0100
TZNAME:CET
END:STANDARD
BEGIN:STANDARD
DTSTART:20261025T010000
TZOFFSETFROM:+0200
TZOFFSETTO:+0100
TZNAME:CET
END:STANDARD
BEGIN:DAYLIGHT
DTSTART:20260329T010000
TZOFFSETFROM:+0100
TZOFFSETTO:+0200
TZNAME:CEST
END:DAYLIGHT
END:VTIMEZONE
X-WR-TIMEZONE:Europe/Brussels
BEGIN:VEVENT
DTSTART;TZID=Europe/Brussels:20230901T213000
DTEND;TZID=Europe/Brussels:20230901T223000
UID:4C662D7C-7288-4EC4-B6F6-7BAD2F2849D6
SUMMARY:Tom Piceu - Les 4
CREATED:20230823T204103Z
DTSTAMP:20230823T204103Z
URL:https://www.knokkeschaak.be/index.php/activiteiten/tom-piceu-les-4
LAST-MODIFIED:20230823T204315Z
SEQUENCE:132
X-ACCESS:1
X-HITS:54
X-COLOR:8b2323
X-SHOW-END-TIME:0
END:VEVENT
BEGIN:VEVENT
DTSTART;TZID=Europe/Brussels:20231027T213000
DTEND;TZID=Europe/Brussels:20231027T223000
UID:43A556BC-5500-42FC-B47E-C63AF4E61EB3
SUMMARY:Tom Piceu - Les 5
CREATED:20230823T204103Z
DTSTAMP:20230823T204103Z
URL:https://www.knokkeschaak.be/index.php/activiteiten/tom-piceu-les-5
LAST-MODIFIED:20230823T204306Z
SEQUENCE:123
X-ACCESS:1
X-HITS:162
X-COLOR:8b2323
X-SHOW-END-TIME:0
END:VEVENT
BEGIN:VEVENT
DTSTART;TZID=Europe/Brussels:20231110T203000
DTEND;TZID=Europe/Brussels:20231110T213000
UID:700FAA0E-F0AC-4566-853A-92CCA1E893E4
SUMMARY:Tom Piceu - Les 6
CREATED:20230823T204103Z
DTSTAMP:20230823T204103Z
URL:https://www.knokkeschaak.be/index.php/activiteiten/tom-piceu-les-6
LAST-MODIFIED:20230823T204252Z
SEQUENCE:109
X-ACCESS:1
X-HITS:186
X-COLOR:8b2323
X-SHOW-END-TIME:0
END:VEVENT
BEGIN:VEVENT
DTSTART;TZID=Europe/Brussels:20231222T203000
DTEND;TZID=Europe/Brussels:20231222T213000
UID:59DF30BA-2EF2-481D-AABB-1AF854FB97C4
SUMMARY:Tom Piceu - Les 7
CREATED:20230823T204103Z
DTSTAMP:20230823T204103Z
URL:https://www.knokkeschaak.be/index.php/activiteiten/tom-piceu-les-7
LAST-MODIFIED:20231023T092246Z
SEQUENCE:5229703
X-ACCESS:1
X-HITS:120
X-COLOR:8b2323
X-SHOW-END-TIME:0
END:VEVENT
BEGIN:VEVENT
DTSTART;TZID=Europe/Brussels:20240119T193000
DTEND;TZID=Europe/Brussels:20240119T223000
UID:DD398C75-40AA-4B2A-94AE-A7ED56F5D5E7
SUMMARY:Tom Piceu - Les 8
CREATED:20230823T204103Z
DTSTAMP:20230823T204103Z
URL:https://www.knokkeschaak.be/index.php/activiteiten/tom-piceu-les-8
DESCRIPTION:Goed uit de opening komen: snel te leren openingen tegen 1.e4 en 1.d4 voor zwart.
X-ALT-DESC;FMTTYPE=text/html:<p>Goed uit de opening komen: snel te leren openingen tegen 1.e4 en 1.d4 voor zwart.</p>
LAST-MODIFIED:20240114T183052Z
SEQUENCE:12433789
X-ACCESS:1
X-HITS:156
X-COLOR:8b2323
X-SHOW-END-TIME:0
END:VEVENT
BEGIN:VEVENT
DTSTART;TZID=Europe/Brussels:20240209T193000
DTEND;TZID=Europe/Brussels:20240209T203000
UID:D7A03E96-5E97-4A7A-B063-9A22F99D44CD
SUMMARY:Tom Piceu - Les 9
CREATED:20230823T204103Z
DTSTAMP:20230823T204103Z
URL:https://www.knokkeschaak.be/index.php/activiteiten/tom-piceu-les-9
DESCRIPTION:Openingszetten leren, hoe begin je er aan - inzicht in het labo van de meester
X-ALT-DESC;FMTTYPE=text/html:<p>Openingszetten leren, hoe begin je er aan - inzicht in het labo van de meester</p>
LAST-MODIFIED:20240114T183239Z
SEQUENCE:12433896
X-ACCESS:1
X-HITS:219
X-COLOR:8b2323
X-SHOW-END-TIME:0
END:VEVENT
BEGIN:VEVENT
DTSTART;TZID=Europe/Brussels:20240315T193000
DTEND;TZID=Europe/Brussels:20240315T203000
UID:DB64026A-CB37-4136-BF54-29EB82A64541
SUMMARY:Tom Piceu - Les 10
CREATED:20230823T204103Z
DTSTAMP:20230823T204103Z
URL:https://www.knokkeschaak.be/index.php/activiteiten/tom-piceu-les-10
DESCRIPTION:Het belang van pionnenketens.
X-ALT-DESC;FMTTYPE=text/html:<p>Het belang van pionnenketens.</p>
LAST-MODIFIED:20240114T183453Z
SEQUENCE:12434030
X-ACCESS:1
X-HITS:130
X-COLOR:8b2323
X-SHOW-END-TIME:0
END:VEVENT
BEGIN:VEVENT
DTSTART;TZID=Europe/Brussels:20240426T193000
DTEND;TZID=Europe/Brussels:20240426T223000
UID:405845CB-A0DF-4E0A-8B96-6E4EB1874F64
SUMMARY:Tom Piceu - Les 11
CREATED:20240114T182619Z
DTSTAMP:20240114T182619Z
URL:https://www.knokkeschaak.be/index.php/activiteiten/tom-piceu-les-11
DESCRIPTION:Onderwerp nog te bepalen
X-ALT-DESC;FMTTYPE=text/html:<p>Onderwerp nog te bepalen</p>
LAST-MODIFIED:20240114T184144Z
SEQUENCE:925
X-ACCESS:1
X-HITS:402
X-COLOR:8b2323
X-SHOW-END-TIME:0
END:VEVENT
BEGIN:VEVENT
DTSTART;TZID=Europe/Brussels:20240524T193000
DTEND;TZID=Europe/Brussels:20240524T223000
UID:6585BA63-0F66-4FC3-A539-8863A9CCA681
SUMMARY:Tom Piceu - Les 12
CREATED:20240114T182711Z
DTSTAMP:20240114T182711Z
URL:https://www.knokkeschaak.be/index.php/activiteiten/tom-piceu-les-12
DESCRIPTION:Onderwerp nog te bepalen
X-ALT-DESC;FMTTYPE=text/html:<p>Onderwerp nog te bepalen</p>
LAST-MODIFIED:20240114T184157Z
SEQUENCE:886
X-ACCESS:1
X-HITS:407
X-COLOR:8b2323
X-SHOW-END-TIME:0
END:VEVENT
BEGIN:VEVENT
DTSTART;TZID=Europe/Brussels:20240614T193000
DTEND;TZID=Europe/Brussels:20240614T223000
UID:C3AB4930-34A9-475B-94A4-345C434F78F3
SUMMARY:Tom Piceu - Les 13
CREATED:20240114T182911Z
DTSTAMP:20240114T182911Z
URL:https://www.knokkeschaak.be/index.php/activiteiten/tom-piceu-les-13
DESCRIPTION:Onderwerp nog te bepalen
X-ALT-DESC;FMTTYPE=text/html:<p>Onderwerp nog te bepalen</p>
LAST-MODIFIED:20240114T184206Z
SEQUENCE:775
X-ACCESS:1
X-HITS:399
X-COLOR:8b2323
X-SHOW-END-TIME:0
END:VEVENT
BEGIN:VEVENT
DTSTART;TZID=Europe/Brussels:20240927T193000
DTEND;TZID=Europe/Brussels:20240927T220000
UID:E5453F5D-0820-4B06-AFEA-C9D0F56B348C
SUMMARY:Tom Piceu - Les 1
CREATED:20240717T210137Z
DTSTAMP:20240717T210137Z
URL:https://www.knokkeschaak.be/index.php/activiteiten/tom-piceu-les-2
DESCRIPTION:Les 1
X-ALT-DESC;FMTTYPE=text/html:<p>Les 1</p>
LAST-MODIFIED:20240717T210410Z
SEQUENCE:153
X-ACCESS:1
X-HITS:695
X-COLOR:8b2323
X-SHOW-END-TIME:0
END:VEVENT
BEGIN:VEVENT
DTSTART;TZID=Europe/Brussels:20241108T193000
DTEND;TZID=Europe/Brussels:20241108T220000
UID:FE57DD64-42EB-43D8-8C83-3F7CD00F73CE
SUMMARY:Tom Piceu - Les 2
CREATED:20240717T210137Z
DTSTAMP:20240717T210137Z
URL:https://www.knokkeschaak.be/index.php/activiteiten/tom-piceu-les-1
DESCRIPTION:Les 2
X-ALT-DESC;FMTTYPE=text/html:<p>Les 2</p>
LAST-MODIFIED:20240717T210324Z
SEQUENCE:107
X-ACCESS:1
X-HITS:379
X-COLOR:8b2323
X-SHOW-END-TIME:0
END:VEVENT
BEGIN:VEVENT
DTSTART;TZID=Europe/Brussels:20241220T193000
DTEND;TZID=Europe/Brussels:20241220T220000
UID:393CC12A-C28F-416F-87FA-B3C1658A8E20
SUMMARY:Tom Piceu - Les 3
CREATED:20240717T210137Z
DTSTAMP:20240717T210137Z
URL:https://www.knokkeschaak.be/index.php/activiteiten/tom-piceu-les-3
DESCRIPTION:Les 3
X-ALT-DESC;FMTTYPE=text/html:<p>Les 3</p>
LAST-MODIFIED:20240717T210530Z
SEQUENCE:233
X-ACCESS:1
X-HITS:377
X-COLOR:8b2323
X-SHOW-END-TIME:0
END:VEVENT
BEGIN:VEVENT
DTSTART;TZID=Europe/Brussels:20250131T193000
DTEND;TZID=Europe/Brussels:20250131T220000
UID:67B8781E-7E64-4595-B35E-4C2E15F7DA3F
SUMMARY:Tom Piceu - Les 4
CREATED:20240717T210137Z
DTSTAMP:20240717T210137Z
URL:https://www.knokkeschaak.be/index.php/activiteiten/tom-piceu-les-14
DESCRIPTION:Les 4
X-ALT-DESC;FMTTYPE=text/html:<p>Les 4</p>
LAST-MODIFIED:20240818T205711Z
SEQUENCE:2764534
X-ACCESS:1
X-HITS:393
X-COLOR:8b2323
X-SHOW-END-TIME:0
END:VEVENT
BEGIN:VEVENT
DTSTART;TZID=Europe/Brussels:20250314T193000
DTEND;TZID=Europe/Brussels:20250314T220000
UID:7904D321-460E-4639-B37F-5A1EAC5CC0C1
SUMMARY:Tom Piceu - Les 5
CREATED:20240717T210137Z
DTSTAMP:20240717T210137Z
URL:https://www.knokkeschaak.be/index.php/activiteiten/tom-piceu-les-15
DESCRIPTION:Les 5
X-ALT-DESC;FMTTYPE=text/html:<p>Les 5</p>
LAST-MODIFIED:20240818T205748Z
SEQUENCE:2764571
X-ACCESS:1
X-HITS:387
X-COLOR:8b2323
X-SHOW-END-TIME:0
END:VEVENT
BEGIN:VEVENT
DTSTART;TZID=Europe/Brussels:20250425T193000
DTEND;TZID=Europe/Brussels:20250425T220000
UID:70AC75E4-6901-453A-A668-ABF6162B1EEC
SUMMARY:Tom Piceu - Les 6
CREATED:20240717T210137Z
DTSTAMP:20240717T210137Z
URL:https://www.knokkeschaak.be/index.php/activiteiten/tom-piceu-les-16
DESCRIPTION:Les 6
X-ALT-DESC;FMTTYPE=text/html:<p>Les 6</p>
LAST-MODIFIED:20240818T205840Z
SEQUENCE:2764623
X-ACCESS:1
X-HITS:387
X-COLOR:8b2323
X-SHOW-END-TIME:0
END:VEVENT
BEGIN:VEVENT
DTSTART;TZID=Europe/Brussels:20250606T193000
DTEND;TZID=Europe/Brussels:20250606T220000
UID:0FFCA85A-ABF8-46FC-859E-58E33E077B38
SUMMARY:Tom Piceu - Les 7
CREATED:20240717T210137Z
DTSTAMP:20240717T210137Z
URL:https://www.knokkeschaak.be/index.php/activiteiten/tom-piceu-les-17
DESCRIPTION:Les 7
X-ALT-DESC;FMTTYPE=text/html:<p>Les 7</p>
LAST-MODIFIED:20240818T205925Z
SEQUENCE:2764668
X-ACCESS:1
X-HITS:453
X-COLOR:8b2323
X-SHOW-END-TIME:0
END:VEVENT
END:VCALENDAR